Package: anota Version: 1.54.0 Command: /home/biocbuild/R/R/bin/R CMD INSTALL anota StartedAt: 2025-01-30 20:54:18 -0000 (Thu, 30 Jan 2025) EndedAt: 2025-01-30 20:54:29 -0000 (Thu, 30 Jan 2025) EllapsedTime: 11.1 seconds RetCode: 0 Status: OK