Package: anota2seq Version: 1.28.0 Command: /home/biocbuild/R/R/bin/R CMD build --keep-empty-dirs --no-resave-data anota2seq StartedAt: 2024-11-19 22:46:34 -0000 (Tue, 19 Nov 2024) EndedAt: 2024-11-19 22:50:13 -0000 (Tue, 19 Nov 2024) EllapsedTime: 219.3 seconds RetCode: 0 Status: OK PackageFile: anota2seq_1.28.0.tar.gz PackageFileSize: 1002 KiB