Package: anota2seq Version: 1.28.0 Command: rm -rf anota2seq.buildbin-libdir && mkdir anota2seq.buildbin-libdir && /Users/biocbuild/BBS/utils/build-universal.sh anota2seq_1.28.0.tar.gz /Library/Frameworks/R.framework/Resources/bin/R anota2seq.buildbin-libdir StartedAt: 2024-11-20 04:14:07 -0500 (Wed, 20 Nov 2024) EndedAt: 2024-11-20 04:14:55 -0500 (Wed, 20 Nov 2024) EllapsedTime: 48.0 seconds RetCode: 0 Status: OK PackageFile: anota2seq_1.28.0.tgz PackageFileSize: 1.505 MiB