Package: anota2seq Version: 1.28.0 Command: /Library/Frameworks/R.framework/Resources/bin/R CMD INSTALL anota2seq StartedAt: 2024-11-19 15:36:30 -0500 (Tue, 19 Nov 2024) EndedAt: 2024-11-19 15:37:14 -0500 (Tue, 19 Nov 2024) EllapsedTime: 43.4 seconds RetCode: 0 Status: OK