Package: anota2seq Version: 1.28.0 Command: rm -rf anota2seq.buildbin-libdir && mkdir anota2seq.buildbin-libdir && /Users/biocbuild/BBS/utils/build-universal.sh anota2seq_1.28.0.tar.gz /Library/Frameworks/R.framework/Resources/bin/R anota2seq.buildbin-libdir StartedAt: 2025-01-31 12:19:51 -0500 (Fri, 31 Jan 2025) EndedAt: 2025-01-31 12:21:04 -0500 (Fri, 31 Jan 2025) EllapsedTime: 72.8 seconds RetCode: 0 Status: OK PackageFile: anota2seq_1.28.0.tgz PackageFileSize: 1.507 MiB