Package: anota2seq Version: 1.28.0 Command: /Library/Frameworks/R.framework/Resources/bin/R CMD build --keep-empty-dirs --no-resave-data anota2seq StartedAt: 2025-01-30 17:07:14 -0500 (Thu, 30 Jan 2025) EndedAt: 2025-01-30 17:14:17 -0500 (Thu, 30 Jan 2025) EllapsedTime: 423.1 seconds RetCode: 0 Status: OK PackageFile: anota2seq_1.28.0.tar.gz PackageFileSize: 972.1 KiB