Package: anota2seq Version: 1.28.0 Command: /Library/Frameworks/R.framework/Resources/bin/R CMD check --install=check:anota2seq.install-out.txt --library=/Library/Frameworks/R.framework/Resources/library --no-vignettes --timings anota2seq_1.28.0.tar.gz StartedAt: 2025-01-31 00:12:05 -0500 (Fri, 31 Jan 2025) EndedAt: 2025-01-31 00:21:47 -0500 (Fri, 31 Jan 2025) EllapsedTime: 582.0 seconds RetCode: 0 Status: OK CheckDir: anota2seq.Rcheck Warnings: 0