Package: anota2seq Version: 1.28.0 Command: /Library/Frameworks/R.framework/Resources/bin/R CMD INSTALL anota2seq StartedAt: 2025-01-30 16:22:24 -0500 (Thu, 30 Jan 2025) EndedAt: 2025-01-30 16:23:34 -0500 (Thu, 30 Jan 2025) EllapsedTime: 70.1 seconds RetCode: 0 Status: OK