Package: anota2seq Version: 1.28.0 Command: /home/biocbuild/bbs-3.20-bioc/R/bin/R CMD build --keep-empty-dirs --no-resave-data --md5 anota2seq StartedAt: 2025-01-30 16:11:35 -0500 (Thu, 30 Jan 2025) EndedAt: 2025-01-30 16:14:06 -0500 (Thu, 30 Jan 2025) EllapsedTime: 151.2 seconds RetCode: 0 Status: OK PackageFile: anota2seq_1.28.0.tar.gz PackageFileSize: 1.003 MiB