Package: anota2seq Version: 1.28.0 Command: /home/biocbuild/bbs-3.20-bioc/R/bin/R CMD check --install=check:anota2seq.install-out.txt --library=/home/biocbuild/bbs-3.20-bioc/R/site-library --timings anota2seq_1.28.0.tar.gz StartedAt: 2025-01-30 19:53:50 -0500 (Thu, 30 Jan 2025) EndedAt: 2025-01-30 19:59:30 -0500 (Thu, 30 Jan 2025) EllapsedTime: 339.5 seconds RetCode: 0 Status: WARNINGS CheckDir: anota2seq.Rcheck Warnings: 1