Package: anota2seq Version: 1.28.0 Command: rm -rf anota2seq.buildbin-libdir && mkdir anota2seq.buildbin-libdir && F:\biocbuild\bbs-3.20-bioc\R\bin\R.exe CMD INSTALL --build --library=anota2seq.buildbin-libdir anota2seq_1.28.0.tar.gz StartedAt: 2025-01-31 08:08:45 -0500 (Fri, 31 Jan 2025) EndedAt: 2025-01-31 08:09:56 -0500 (Fri, 31 Jan 2025) EllapsedTime: 71.9 seconds RetCode: 0 Status: OK PackageFile: anota2seq_1.28.0.zip PackageFileSize: 1.555 MiB