Package: anota2seq Version: 1.28.0 Command: F:\biocbuild\bbs-3.20-bioc\R\bin\R.exe CMD INSTALL anota2seq StartedAt: 2025-01-30 16:35:50 -0500 (Thu, 30 Jan 2025) EndedAt: 2025-01-30 16:36:43 -0500 (Thu, 30 Jan 2025) EllapsedTime: 53.4 seconds RetCode: 0 Status: OK