Package: anota2seq Version: 1.28.0 Command: /home/biocbuild/R/R/bin/R CMD check --install=check:anota2seq.install-out.txt --library=/home/biocbuild/R/R/site-library --no-vignettes --timings anota2seq_1.28.0.tar.gz StartedAt: 2025-01-31 03:49:59 -0000 (Fri, 31 Jan 2025) EndedAt: 2025-01-31 03:55:31 -0000 (Fri, 31 Jan 2025) EllapsedTime: 332.7 seconds RetCode: 0 Status: OK CheckDir: anota2seq.Rcheck Warnings: 0