Package: anota2seq Version: 1.28.0 Command: /home/biocbuild/R/R/bin/R CMD INSTALL anota2seq StartedAt: 2025-01-30 20:54:13 -0000 (Thu, 30 Jan 2025) EndedAt: 2025-01-30 20:54:51 -0000 (Thu, 30 Jan 2025) EllapsedTime: 38.0 seconds RetCode: 0 Status: OK