Package: apeglm Version: 1.28.0 Command: rm -rf apeglm.buildbin-libdir && mkdir apeglm.buildbin-libdir && /Users/biocbuild/BBS/utils/build-universal.sh apeglm_1.28.0.tar.gz /Library/Frameworks/R.framework/Resources/bin/R apeglm.buildbin-libdir StartedAt: 2025-02-04 12:28:10 -0500 (Tue, 04 Feb 2025) EndedAt: 2025-02-04 12:30:03 -0500 (Tue, 04 Feb 2025) EllapsedTime: 113.0 seconds RetCode: 0 Status: OK PackageFile: apeglm_1.28.0.tgz PackageFileSize: 1.4 MiB