Package: apeglm Version: 1.28.0 Command: /Library/Frameworks/R.framework/Resources/bin/R CMD build --keep-empty-dirs --no-resave-data apeglm StartedAt: 2025-02-03 17:04:50 -0500 (Mon, 03 Feb 2025) EndedAt: 2025-02-03 17:08:32 -0500 (Mon, 03 Feb 2025) EllapsedTime: 222.1 seconds RetCode: 0 Status: OK PackageFile: apeglm_1.28.0.tar.gz PackageFileSize: 1.265 MiB