Package: apeglm Version: 1.28.0 Command: /Library/Frameworks/R.framework/Resources/bin/R CMD INSTALL apeglm StartedAt: 2025-02-03 15:50:51 -0500 (Mon, 03 Feb 2025) EndedAt: 2025-02-03 15:52:36 -0500 (Mon, 03 Feb 2025) EllapsedTime: 104.8 seconds RetCode: 0 Status: OK