Package: apeglm Version: 1.28.0 Command: /home/biocbuild/bbs-3.20-bioc/R/bin/R CMD INSTALL apeglm StartedAt: 2025-02-03 15:27:07 -0500 (Mon, 03 Feb 2025) EndedAt: 2025-02-03 15:28:00 -0500 (Mon, 03 Feb 2025) EllapsedTime: 53.2 seconds RetCode: 0 Status: OK