Package: apeglm Version: 1.28.0 Command: rm -rf apeglm.buildbin-libdir && mkdir apeglm.buildbin-libdir && F:\biocbuild\bbs-3.20-bioc\R\bin\R.exe CMD INSTALL --build --library=apeglm.buildbin-libdir apeglm_1.28.0.tar.gz StartedAt: 2025-02-04 07:58:53 -0500 (Tue, 04 Feb 2025) EndedAt: 2025-02-04 08:00:12 -0500 (Tue, 04 Feb 2025) EllapsedTime: 78.7 seconds RetCode: 0 Status: OK PackageFile: apeglm_1.28.0.zip PackageFileSize: 895.3 KiB