Package: appreci8R Version: 1.24.0 Command: rm -rf appreci8R.buildbin-libdir && mkdir appreci8R.buildbin-libdir && /Users/biocbuild/BBS/utils/build-universal.sh appreci8R_1.24.0.tar.gz /Library/Frameworks/R.framework/Resources/bin/R appreci8R.buildbin-libdir StartedAt: 2025-02-01 13:54:07 -0500 (Sat, 01 Feb 2025) EndedAt: 2025-02-01 13:55:55 -0500 (Sat, 01 Feb 2025) EllapsedTime: 108.5 seconds RetCode: 0 Status: OK PackageFile: appreci8R_1.24.0.tgz PackageFileSize: 1.458 MiB