Package: appreci8R Version: 1.24.0 Command: /Library/Frameworks/R.framework/Resources/bin/R CMD INSTALL appreci8R StartedAt: 2025-02-03 18:02:22 -0500 (Mon, 03 Feb 2025) EndedAt: 2025-02-03 18:04:04 -0500 (Mon, 03 Feb 2025) EllapsedTime: 101.1 seconds RetCode: 0 Status: OK