Package: appreci8R Version: 1.24.0 Command: rm -rf appreci8R.buildbin-libdir && mkdir appreci8R.buildbin-libdir && /Users/biocbuild/BBS/utils/build-universal.sh appreci8R_1.24.0.tar.gz /Library/Frameworks/R.framework/Resources/bin/R appreci8R.buildbin-libdir StartedAt: 2024-11-09 16:37:23 -0500 (Sat, 09 Nov 2024) EndedAt: 2024-11-09 16:37:58 -0500 (Sat, 09 Nov 2024) EllapsedTime: 34.6 seconds RetCode: 0 Status: OK PackageFile: appreci8R_1.24.0.tgz PackageFileSize: 1.458 MiB