Package: appreci8R Version: 1.24.0 Command: /Library/Frameworks/R.framework/Resources/bin/R CMD build --keep-empty-dirs --no-resave-data appreci8R StartedAt: 2024-11-08 15:57:22 -0500 (Fri, 08 Nov 2024) EndedAt: 2024-11-08 15:58:27 -0500 (Fri, 08 Nov 2024) EllapsedTime: 65.7 seconds RetCode: 0 Status: OK PackageFile: appreci8R_1.24.0.tar.gz PackageFileSize: 1013 KiB