Package: appreci8R Version: 1.24.0 Command: /Library/Frameworks/R.framework/Resources/bin/R CMD INSTALL appreci8R StartedAt: 2024-11-08 15:48:19 -0500 (Fri, 08 Nov 2024) EndedAt: 2024-11-08 15:48:50 -0500 (Fri, 08 Nov 2024) EllapsedTime: 31.0 seconds RetCode: 0 Status: OK