Package: appreci8R Version: 1.24.0 Command: /home/biocbuild/bbs-3.20-bioc/R/bin/R CMD check --install=check:appreci8R.install-out.txt --library=/home/biocbuild/bbs-3.20-bioc/R/site-library --timings appreci8R_1.24.0.tar.gz StartedAt: 2025-01-30 19:55:21 -0500 (Thu, 30 Jan 2025) EndedAt: 2025-01-30 20:02:26 -0500 (Thu, 30 Jan 2025) EllapsedTime: 425.5 seconds RetCode: 0 Status: OK CheckDir: appreci8R.Rcheck Warnings: 0