Package: appreci8R Version: 1.24.0 Command: rm -rf appreci8R.buildbin-libdir && mkdir appreci8R.buildbin-libdir && F:\biocbuild\bbs-3.20-bioc\R\bin\R.exe CMD INSTALL --build --library=appreci8R.buildbin-libdir appreci8R_1.24.0.tar.gz StartedAt: 2025-02-04 07:58:56 -0500 (Tue, 04 Feb 2025) EndedAt: 2025-02-04 08:00:34 -0500 (Tue, 04 Feb 2025) EllapsedTime: 98.4 seconds RetCode: 0 Status: OK PackageFile: appreci8R_1.24.0.zip PackageFileSize: 1.333 MiB