Package: appreci8R Version: 1.24.0 Command: chmod a+r appreci8R -R && F:\biocbuild\bbs-3.20-bioc\R\bin\R.exe CMD build --keep-empty-dirs --no-resave-data appreci8R StartedAt: 2025-01-30 17:19:32 -0500 (Thu, 30 Jan 2025) EndedAt: 2025-01-30 17:23:24 -0500 (Thu, 30 Jan 2025) EllapsedTime: 231.5 seconds RetCode: 0 Status: OK PackageFile: appreci8R_1.24.0.tar.gz PackageFileSize: 892.4 KiB