Package: appreci8R Version: 1.24.0 Command: F:\biocbuild\bbs-3.20-bioc\R\bin\R.exe CMD check --no-multiarch --install=check:appreci8R.install-out.txt --library=F:\biocbuild\bbs-3.20-bioc\R\library --no-vignettes --timings appreci8R_1.24.0.tar.gz StartedAt: 2025-01-30 23:24:44 -0500 (Thu, 30 Jan 2025) EndedAt: 2025-01-30 23:31:33 -0500 (Thu, 30 Jan 2025) EllapsedTime: 408.9 seconds RetCode: 0 Status: OK CheckDir: appreci8R.Rcheck Warnings: 0