Package: appreci8R Version: 1.24.0 Command: F:\biocbuild\bbs-3.20-bioc\R\bin\R.exe CMD INSTALL appreci8R StartedAt: 2025-02-03 17:05:07 -0500 (Mon, 03 Feb 2025) EndedAt: 2025-02-03 17:06:58 -0500 (Mon, 03 Feb 2025) EllapsedTime: 110.9 seconds RetCode: 0 Status: OK