Package: appreci8R Version: 1.24.0 Command: /home/biocbuild/R/R/bin/R CMD build --keep-empty-dirs --no-resave-data appreci8R StartedAt: 2025-02-03 21:37:28 -0000 (Mon, 03 Feb 2025) EndedAt: 2025-02-03 21:40:49 -0000 (Mon, 03 Feb 2025) EllapsedTime: 201.1 seconds RetCode: 0 Status: OK PackageFile: appreci8R_1.24.0.tar.gz PackageFileSize: 1005 KiB