Package: appreci8R Version: 1.24.0 Command: /home/biocbuild/R/R/bin/R CMD INSTALL appreci8R StartedAt: 2025-02-03 21:19:43 -0000 (Mon, 03 Feb 2025) EndedAt: 2025-02-03 21:21:34 -0000 (Mon, 03 Feb 2025) EllapsedTime: 111.2 seconds RetCode: 0 Status: OK