Package: aroma.light Version: 3.36.0 Command: /Library/Frameworks/R.framework/Resources/bin/R CMD build --keep-empty-dirs --no-resave-data aroma.light StartedAt: 2025-02-03 18:45:24 -0500 (Mon, 03 Feb 2025) EndedAt: 2025-02-03 18:45:26 -0500 (Mon, 03 Feb 2025) EllapsedTime: 2.2 seconds RetCode: 0 Status: OK PackageFile: aroma.light_3.36.0.tar.gz PackageFileSize: 379.3 KiB