Package: aroma.light Version: 3.36.0 Command: /Library/Frameworks/R.framework/Resources/bin/R CMD check --install=check:aroma.light.install-out.txt --library=/Library/Frameworks/R.framework/Resources/library --no-vignettes --timings aroma.light_3.36.0.tar.gz StartedAt: 2025-02-04 11:27:42 -0500 (Tue, 04 Feb 2025) EndedAt: 2025-02-04 11:29:16 -0500 (Tue, 04 Feb 2025) EllapsedTime: 93.9 seconds RetCode: 0 Status: OK CheckDir: aroma.light.Rcheck Warnings: 0