Package: aroma.light Version: 3.36.0 Command: /Library/Frameworks/R.framework/Resources/bin/R CMD INSTALL aroma.light StartedAt: 2025-02-03 15:19:39 -0500 (Mon, 03 Feb 2025) EndedAt: 2025-02-03 15:19:44 -0500 (Mon, 03 Feb 2025) EllapsedTime: 5.3 seconds RetCode: 0 Status: OK