Package: aroma.light Version: 3.36.0 Command: /home/biocbuild/R/R/bin/R CMD INSTALL aroma.light StartedAt: 2024-11-19 20:31:21 -0000 (Tue, 19 Nov 2024) EndedAt: 2024-11-19 20:31:35 -0000 (Tue, 19 Nov 2024) EllapsedTime: 13.6 seconds RetCode: 0 Status: OK