Package: aroma.light Version: 3.36.0 Command: /Library/Frameworks/R.framework/Resources/bin/R CMD check --install=check:aroma.light.install-out.txt --library=/Library/Frameworks/R.framework/Resources/library --no-vignettes --timings aroma.light_3.36.0.tar.gz StartedAt: 2025-02-03 23:45:42 -0500 (Mon, 03 Feb 2025) EndedAt: 2025-02-03 23:48:30 -0500 (Mon, 03 Feb 2025) EllapsedTime: 167.6 seconds RetCode: 0 Status: OK CheckDir: aroma.light.Rcheck Warnings: 0