Package: aroma.light Version: 3.36.0 Command: /home/biocbuild/bbs-3.20-bioc/R/bin/R CMD build --keep-empty-dirs --no-resave-data --md5 aroma.light StartedAt: 2025-02-03 16:20:55 -0500 (Mon, 03 Feb 2025) EndedAt: 2025-02-03 16:20:56 -0500 (Mon, 03 Feb 2025) EllapsedTime: 1.0 seconds RetCode: 0 Status: OK PackageFile: aroma.light_3.36.0.tar.gz PackageFileSize: 384.5 KiB