Package: aroma.light Version: 3.36.0 Command: /home/biocbuild/bbs-3.20-bioc/R/bin/R CMD check --install=check:aroma.light.install-out.txt --library=/home/biocbuild/bbs-3.20-bioc/R/site-library --timings aroma.light_3.36.0.tar.gz StartedAt: 2025-02-03 20:05:12 -0500 (Mon, 03 Feb 2025) EndedAt: 2025-02-03 20:06:16 -0500 (Mon, 03 Feb 2025) EllapsedTime: 64.2 seconds RetCode: 0 Status: OK CheckDir: aroma.light.Rcheck Warnings: 0