Package: aroma.light Version: 3.36.0 Command: /home/biocbuild/R/R/bin/R CMD build --keep-empty-dirs --no-resave-data aroma.light StartedAt: 2025-02-03 21:37:29 -0000 (Mon, 03 Feb 2025) EndedAt: 2025-02-03 21:37:30 -0000 (Mon, 03 Feb 2025) EllapsedTime: 1.0 seconds RetCode: 0 Status: OK PackageFile: aroma.light_3.36.0.tar.gz PackageFileSize: 379.3 KiB