Package: aroma.light Version: 3.36.0 Command: /home/biocbuild/R/R/bin/R CMD check --install=check:aroma.light.install-out.txt --library=/home/biocbuild/R/R/site-library --no-vignettes --timings aroma.light_3.36.0.tar.gz StartedAt: 2025-02-04 04:23:52 -0000 (Tue, 04 Feb 2025) EndedAt: 2025-02-04 04:26:02 -0000 (Tue, 04 Feb 2025) EllapsedTime: 129.3 seconds RetCode: 0 Status: OK CheckDir: aroma.light.Rcheck Warnings: 0