Package: aroma.light Version: 3.36.0 Command: /home/biocbuild/R/R/bin/R CMD INSTALL aroma.light StartedAt: 2025-02-03 20:25:45 -0000 (Mon, 03 Feb 2025) EndedAt: 2025-02-03 20:25:58 -0000 (Mon, 03 Feb 2025) EllapsedTime: 13.2 seconds RetCode: 0 Status: OK