Package: arrayMvout Version: 1.64.0 Command: /Library/Frameworks/R.framework/Resources/bin/R CMD check --install=check:arrayMvout.install-out.txt --library=/Library/Frameworks/R.framework/Resources/library --no-vignettes --timings arrayMvout_1.64.0.tar.gz StartedAt: 2025-02-04 11:29:20 -0500 (Tue, 04 Feb 2025) EndedAt: 2025-02-04 11:35:02 -0500 (Tue, 04 Feb 2025) EllapsedTime: 342.5 seconds RetCode: 0 Status: OK CheckDir: arrayMvout.Rcheck Warnings: 0