Package: arrayMvout Version: 1.64.0 Command: /Library/Frameworks/R.framework/Resources/bin/R CMD INSTALL arrayMvout StartedAt: 2025-02-03 18:01:25 -0500 (Mon, 03 Feb 2025) EndedAt: 2025-02-03 18:02:22 -0500 (Mon, 03 Feb 2025) EllapsedTime: 56.5 seconds RetCode: 0 Status: OK