Package: arrayMvout Version: 1.64.0 Command: /Library/Frameworks/R.framework/Resources/bin/R CMD build --keep-empty-dirs --no-resave-data arrayMvout StartedAt: 2025-02-03 17:05:08 -0500 (Mon, 03 Feb 2025) EndedAt: 2025-02-03 17:07:40 -0500 (Mon, 03 Feb 2025) EllapsedTime: 151.7 seconds RetCode: 0 Status: OK PackageFile: arrayMvout_1.64.0.tar.gz PackageFileSize: 692.9 KiB