Package: arrayMvout Version: 1.64.0 Command: /Library/Frameworks/R.framework/Resources/bin/R CMD check --install=check:arrayMvout.install-out.txt --library=/Library/Frameworks/R.framework/Resources/library --no-vignettes --timings arrayMvout_1.64.0.tar.gz StartedAt: 2025-02-03 23:46:20 -0500 (Mon, 03 Feb 2025) EndedAt: 2025-02-03 23:57:14 -0500 (Mon, 03 Feb 2025) EllapsedTime: 654.6 seconds RetCode: 0 Status: OK CheckDir: arrayMvout.Rcheck Warnings: 0