Package: arrayMvout Version: 1.64.0 Command: /Library/Frameworks/R.framework/Resources/bin/R CMD INSTALL arrayMvout StartedAt: 2025-02-10 16:38:31 -0500 (Mon, 10 Feb 2025) EndedAt: 2025-02-10 16:40:10 -0500 (Mon, 10 Feb 2025) EllapsedTime: 99.2 seconds RetCode: 0 Status: OK