Package: arrayMvout Version: 1.64.0 Command: /home/biocbuild/bbs-3.20-bioc/R/bin/R CMD INSTALL arrayMvout StartedAt: 2025-02-03 16:08:00 -0500 (Mon, 03 Feb 2025) EndedAt: 2025-02-03 16:08:58 -0500 (Mon, 03 Feb 2025) EllapsedTime: 57.2 seconds RetCode: 0 Status: OK