Package: arrayMvout Version: 1.64.0 Command: chmod a+r arrayMvout -R && F:\biocbuild\bbs-3.20-bioc\R\bin\R.exe CMD build --keep-empty-dirs --no-resave-data arrayMvout StartedAt: 2025-02-03 17:31:26 -0500 (Mon, 03 Feb 2025) EndedAt: 2025-02-03 17:32:56 -0500 (Mon, 03 Feb 2025) EllapsedTime: 90.5 seconds RetCode: 0 Status: OK PackageFile: arrayMvout_1.64.0.tar.gz PackageFileSize: 584.7 KiB