Package: arrayMvout Version: 1.64.0 Command: F:\biocbuild\bbs-3.20-bioc\R\bin\R.exe CMD check --no-multiarch --install=check:arrayMvout.install-out.txt --library=F:\biocbuild\bbs-3.20-bioc\R\library --no-vignettes --timings arrayMvout_1.64.0.tar.gz StartedAt: 2025-02-10 23:07:05 -0500 (Mon, 10 Feb 2025) EndedAt: 2025-02-10 23:13:14 -0500 (Mon, 10 Feb 2025) EllapsedTime: 369.0 seconds RetCode: 0 Status: OK CheckDir: arrayMvout.Rcheck Warnings: 0