Package: arrayMvout Version: 1.64.0 Command: /home/biocbuild/R/R/bin/R CMD build --keep-empty-dirs --no-resave-data arrayMvout StartedAt: 2025-02-03 21:37:52 -0000 (Mon, 03 Feb 2025) EndedAt: 2025-02-03 21:39:13 -0000 (Mon, 03 Feb 2025) EllapsedTime: 81.0 seconds RetCode: 0 Status: OK PackageFile: arrayMvout_1.64.0.tar.gz PackageFileSize: 684.5 KiB